BEGIN:VCALENDAR
VERSION:2.0
PRODID:-//Jobs Training - ECPv6.15.12.2//NONSGML v1.0//EN
CALSCALE:GREGORIAN
METHOD:PUBLISH
X-WR-CALNAME:Jobs Training
X-ORIGINAL-URL:https://jobstraining.es
X-WR-CALDESC:Eventos para Jobs Training
REFRESH-INTERVAL;VALUE=DURATION:PT1H
X-Robots-Tag:noindex
X-PUBLISHED-TTL:PT1H
BEGIN:VTIMEZONE
TZID:UTC
BEGIN:STANDARD
TZOFFSETFROM:+0000
TZOFFSETTO:+0000
TZNAME:UTC
DTSTART:20250101T000000
END:STANDARD
END:VTIMEZONE
BEGIN:VEVENT
DTSTART;TZID=UTC:20260418T080000
DTEND;TZID=UTC:20260426T170000
DTSTAMP:20260424T101348
CREATED:20260330T115335Z
LAST-MODIFIED:20260330T115335Z
UID:4167-1776499200-1777222800@jobstraining.es
SUMMARY:H.S. TATUAJES Homologado
DESCRIPTION:BERGONDO _ A CORUÑA \n100% PRESENCIAL\, Fines de semana \n250 euros/ alumno
URL:https://jobstraining.es/event/h-s-tatuajes-homologado/
LOCATION:BERGONDO\, A CORUNA\, 15165\, Spain
END:VEVENT
BEGIN:VEVENT
DTSTART;TZID=UTC:20260424T080000
DTEND;TZID=UTC:20260424T160000
DTSTAMP:20260424T101348
CREATED:20260323T170755Z
LAST-MODIFIED:20260323T170755Z
UID:4139-1777017600-1777046400@jobstraining.es
SUMMARY:PEMP_ALCALA MADRID
DESCRIPTION:Dirección:  \n\nC. de Rumanía\, 16\, 28802 Alcalá de Henares\, Madrid
URL:https://jobstraining.es/event/pemp_alcala-madrid-2/
LOCATION:MADRID\, MADRID\, MADRID\, Spain
END:VEVENT
BEGIN:VEVENT
DTSTART;TZID=UTC:20260424T080000
DTEND;TZID=UTC:20260424T160000
DTSTAMP:20260424T101348
CREATED:20260331T161010Z
LAST-MODIFIED:20260331T161010Z
UID:4173-1777017600-1777046400@jobstraining.es
SUMMARY:ALTURAS_MADRID
DESCRIPTION:C/ de la Constitución\, 124\, Nave 6\, 28946 Fuenlabrada\, Madrid
URL:https://jobstraining.es/event/alturas_madrid-5/
LOCATION:MADRID\, MADRID\, MADRID\, Spain
END:VEVENT
END:VCALENDAR