BEGIN:VCALENDAR
VERSION:2.0
PRODID:-//Jobs Training - ECPv6.15.12.2//NONSGML v1.0//EN
CALSCALE:GREGORIAN
METHOD:PUBLISH
X-ORIGINAL-URL:https://jobstraining.es
X-WR-CALDESC:Eventos para Jobs Training
REFRESH-INTERVAL;VALUE=DURATION:PT1H
X-Robots-Tag:noindex
X-PUBLISHED-TTL:PT1H
BEGIN:VTIMEZONE
TZID:UTC
BEGIN:STANDARD
TZOFFSETFROM:+0000
TZOFFSETTO:+0000
TZNAME:UTC
DTSTART:20250101T000000
END:STANDARD
END:VTIMEZONE
BEGIN:VEVENT
DTSTART;TZID=UTC:20260505T080000
DTEND;TZID=UTC:20260507T150000
DTSTAMP:20260424T122345
CREATED:20260313T130720Z
LAST-MODIFIED:20260313T130730Z
UID:4116-1777968000-1778166000@jobstraining.es
SUMMARY:C.12. Trabajos de Mecánica (METAL)
DESCRIPTION:FORMACION: C.12. Trabajos de Mecánica\, Mantenimiento y Reparación de Máquinas\, Equipos Industriales y/o Equipos Electromecánicos (industria aeroespacial\, etc.).-\nFECHAS:\n5/5/2026 HORARIO DE 08:00 H A 15:00 H\n6/5/2026 HORARIO DE 08:00 H A 15:00 H\n7/5/2026 HORARIO DE 08:00 H A 14:00 H\nUBICACIÓN:  SANGUIÑEDA 36419 MOS PONTEVEDRA
URL:https://jobstraining.es/event/c-12-trabajos-de-mecanica-metal/
LOCATION:VIGO\, VIGO\, Spain
END:VEVENT
BEGIN:VEVENT
DTSTART;TZID=UTC:20260506T080000
DTEND;TZID=UTC:20260506T160000
DTSTAMP:20260424T122345
CREATED:20260404T111710Z
LAST-MODIFIED:20260404T111710Z
UID:4247-1778054400-1778083200@jobstraining.es
SUMMARY:CARRETILLAS_MADRID
DESCRIPTION:C. Sierra de Guadarrama\, 94\, 28830 San Fernando de Henares\, Madrid \nTODOS LOS TIPOS
URL:https://jobstraining.es/event/carretillas_madrid-31/
LOCATION:MADRID\, MADRID\, MADRID\, Spain
END:VEVENT
BEGIN:VEVENT
DTSTART;TZID=UTC:20260506T080000
DTEND;TZID=UTC:20260506T160000
DTSTAMP:20260424T122345
CREATED:20260404T112524Z
LAST-MODIFIED:20260404T112524Z
UID:4272-1778054400-1778083200@jobstraining.es
SUMMARY:CARRETILLAS_MADRID
DESCRIPTION:C. Sierra de Guadarrama\, 94\, 28830 San Fernando de Henares\, Madrid \nTODOS LOS TIPOS
URL:https://jobstraining.es/event/carretillas_madrid-42/
LOCATION:MADRID\, MADRID\, MADRID\, Spain
END:VEVENT
BEGIN:VEVENT
DTSTART;TZID=UTC:20260506T080000
DTEND;TZID=UTC:20260506T160000
DTSTAMP:20260424T122345
CREATED:20260406T154243Z
LAST-MODIFIED:20260406T154243Z
UID:4402-1778054400-1778083200@jobstraining.es
SUMMARY:PEMP_BARCELONA
DESCRIPTION:P.I. Hermes\, N-150\, Km. 2\,68\, 08110 Montcada i Reixac\, Barcelona
URL:https://jobstraining.es/event/pemp_barcelona-3/
LOCATION:BARCELONA\, BARCELONA\, BARCELONA\, Spain
END:VEVENT
BEGIN:VEVENT
DTSTART;TZID=UTC:20260508T080000
DTEND;TZID=UTC:20260508T160000
DTSTAMP:20260424T122345
CREATED:20260406T153945Z
LAST-MODIFIED:20260406T153945Z
UID:4390-1778227200-1778256000@jobstraining.es
SUMMARY:PEMP_MADRID
DESCRIPTION:Pol. Ind. Codeín\, C. Eduardo Torroja\, 53\, 28946 Fuenlabrada\, Madrid
URL:https://jobstraining.es/event/pemp_madrid-11/
LOCATION:MADRID\, MADRID\, MADRID\, Spain
END:VEVENT
BEGIN:VEVENT
DTSTART;TZID=UTC:20260508T080000
DTEND;TZID=UTC:20260508T160000
DTSTAMP:20260424T122345
CREATED:20260406T154008Z
LAST-MODIFIED:20260406T154008Z
UID:4392-1778227200-1778256000@jobstraining.es
SUMMARY:ALTURAS_MADRID
DESCRIPTION:Pol. Ind. Codeín\, C. Eduardo Torroja\, 53\, 28946 Fuenlabrada\, Madrid
URL:https://jobstraining.es/event/alturas_madrid-8/
LOCATION:MADRID\, MADRID\, MADRID\, Spain
END:VEVENT
BEGIN:VEVENT
DTSTART;TZID=UTC:20260509T080000
DTEND;TZID=UTC:20260509T160000
DTSTAMP:20260424T122345
CREATED:20251229T103237Z
LAST-MODIFIED:20251229T103237Z
UID:3710-1778313600-1778342400@jobstraining.es
SUMMARY:CARRETILLAS ELEVADORAS
DESCRIPTION:Plataforma Logística de Zaragoza\, Plaza\nCalle Trapani nº2; 50.197Zaragoza \n  \nTODOS LOS TIPOS
URL:https://jobstraining.es/event/carretillas-elevadoras-9/
LOCATION:ZARAGOZA\, C/ TRAPANI 2\, ZARAGOZA\, 50197\, Spain
END:VEVENT
BEGIN:VEVENT
DTSTART;TZID=UTC:20260509T080000
DTEND;TZID=UTC:20260509T160000
DTSTAMP:20260424T122345
CREATED:20260403T090826Z
LAST-MODIFIED:20260403T090826Z
UID:4181-1778313600-1778342400@jobstraining.es
SUMMARY:CARRETILLAS_ MUSEROS VALENCIA
DESCRIPTION:Avinguda Lluís Santàngel\, 37\, Pobles del Nord\, 46136\, Valencia \nTODOS LOS TIPOS
URL:https://jobstraining.es/event/carretillas_-museros-valencia/
LOCATION:VIGO
END:VEVENT
BEGIN:VEVENT
DTSTART;TZID=UTC:20260509T080000
DTEND;TZID=UTC:20260509T160000
DTSTAMP:20260424T122345
CREATED:20260404T111500Z
LAST-MODIFIED:20260404T111500Z
UID:4239-1778313600-1778342400@jobstraining.es
SUMMARY:CARRETILLAS_MADRID
DESCRIPTION:C. Sierra de Guadarrama\, 94\, 28830 San Fernando de Henares\, Madrid \nTODOS LOS TIPOS
URL:https://jobstraining.es/event/carretillas_madrid-27/
LOCATION:MADRID\, MADRID\, MADRID\, Spain
END:VEVENT
BEGIN:VEVENT
DTSTART;TZID=UTC:20260512T080000
DTEND;TZID=UTC:20260512T160000
DTSTAMP:20260424T122345
CREATED:20260414T110945Z
LAST-MODIFIED:20260414T110945Z
UID:4420-1778572800-1778601600@jobstraining.es
SUMMARY:ALTURAS_CORUÑA
DESCRIPTION:ARTEIXO
URL:https://jobstraining.es/event/alturas_coruna-3/
LOCATION:ARTEIXO\, ARTEIXO\, A CORUÑA\, Spain
END:VEVENT
BEGIN:VEVENT
DTSTART;TZID=UTC:20260513T080000
DTEND;TZID=UTC:20260617T160000
DTSTAMP:20260424T122345
CREATED:20260404T111742Z
LAST-MODIFIED:20260404T111742Z
UID:4249-1778659200-1781712000@jobstraining.es
SUMMARY:CARRETILLAS_MADRID
DESCRIPTION:C. Sierra de Guadarrama\, 94\, 28830 San Fernando de Henares\, Madrid \nTODOS LOS TIPOS
URL:https://jobstraining.es/event/carretillas_madrid-32/
LOCATION:MADRID\, MADRID\, MADRID\, Spain
END:VEVENT
BEGIN:VEVENT
DTSTART;TZID=UTC:20260515T080000
DTEND;TZID=UTC:20260515T160000
DTSTAMP:20260424T122345
CREATED:20260406T154034Z
LAST-MODIFIED:20260406T154034Z
UID:4394-1778832000-1778860800@jobstraining.es
SUMMARY:PEMP_MADRID
DESCRIPTION:Pol. Ind. Codeín\, C. Eduardo Torroja\, 53\, 28946 Fuenlabrada\, Madrid
URL:https://jobstraining.es/event/pemp_madrid-12/
LOCATION:MADRID\, MADRID\, MADRID\, Spain
END:VEVENT
BEGIN:VEVENT
DTSTART;TZID=UTC:20260515T080000
DTEND;TZID=UTC:20260515T160000
DTSTAMP:20260424T122345
CREATED:20260406T154057Z
LAST-MODIFIED:20260406T154057Z
UID:4396-1778832000-1778860800@jobstraining.es
SUMMARY:ALTURAS_MADRID
DESCRIPTION:Pol. Ind. Codeín\, C. Eduardo Torroja\, 53\, 28946 Fuenlabrada\, Madrid
URL:https://jobstraining.es/event/alturas_madrid-9/
LOCATION:MADRID\, MADRID\, MADRID\, Spain
END:VEVENT
BEGIN:VEVENT
DTSTART;TZID=UTC:20260516T080000
DTEND;TZID=UTC:20260516T160000
DTSTAMP:20260424T122345
CREATED:20260406T154135Z
LAST-MODIFIED:20260406T154135Z
UID:4398-1778918400-1778947200@jobstraining.es
SUMMARY:ALTURAS_MADRID
DESCRIPTION:Pol. Ind. Codeín\, C. Eduardo Torroja\, 53\, 28946 Fuenlabrada\, Madrid
URL:https://jobstraining.es/event/alturas_madrid-10/
LOCATION:MADRID\, MADRID\, MADRID\, Spain
END:VEVENT
BEGIN:VEVENT
DTSTART;TZID=UTC:20260516T080000
DTEND;TZID=UTC:20260516T160000
DTSTAMP:20260424T122345
CREATED:20260406T154158Z
LAST-MODIFIED:20260406T154158Z
UID:4400-1778918400-1778947200@jobstraining.es
SUMMARY:PEMP_MADRID
DESCRIPTION:Pol. Ind. Codeín\, C. Eduardo Torroja\, 53\, 28946 Fuenlabrada\, Madrid
URL:https://jobstraining.es/event/pemp_madrid-13/
LOCATION:MADRID\, MADRID\, MADRID\, Spain
END:VEVENT
BEGIN:VEVENT
DTSTART;TZID=UTC:20260516T080000
DTEND;TZID=UTC:20260516T163000
DTSTAMP:20260424T122345
CREATED:20251229T102536Z
LAST-MODIFIED:20251229T102536Z
UID:3689-1778918400-1778949000@jobstraining.es
SUMMARY:PLATAFORMAS ELEVADORAS MOVILES DE PERSONAL
DESCRIPTION:Plataforma Logística de Zaragoza\, Plaza\nCalle Trapani nº2; 50.197Zaragoza
URL:https://jobstraining.es/event/plataformas-elevadoras-moviles-de-personal-7/
LOCATION:ZARAGOZA\, C/ TRAPANI 2\, ZARAGOZA\, 50197\, Spain
END:VEVENT
BEGIN:VEVENT
DTSTART;TZID=UTC:20260516T080000
DTEND;TZID=UTC:20260516T163000
DTSTAMP:20260424T122345
CREATED:20260404T111523Z
LAST-MODIFIED:20260404T111523Z
UID:4241-1778918400-1778949000@jobstraining.es
SUMMARY:CARRETILLAS_MADRID
DESCRIPTION:C. Sierra de Guadarrama\, 94\, 28830 San Fernando de Henares\, Madrid \nTODOS LOS TIPOS
URL:https://jobstraining.es/event/carretillas_madrid-28/
LOCATION:MADRID\, MADRID\, MADRID\, Spain
END:VEVENT
BEGIN:VEVENT
DTSTART;TZID=UTC:20260520T080000
DTEND;TZID=UTC:20260520T160000
DTSTAMP:20260424T122345
CREATED:20260404T111816Z
LAST-MODIFIED:20260404T111816Z
UID:4251-1779264000-1779292800@jobstraining.es
SUMMARY:CARRETILLAS_MADRID
DESCRIPTION:C. Sierra de Guadarrama\, 94\, 28830 San Fernando de Henares\, Madrid \nTODOS LOS TIPOS
URL:https://jobstraining.es/event/carretillas_madrid-33/
LOCATION:MADRID\, MADRID\, MADRID\, Spain
END:VEVENT
BEGIN:VEVENT
DTSTART;TZID=UTC:20260520T080000
DTEND;TZID=UTC:20260520T160000
DTSTAMP:20260424T122345
CREATED:20260406T154322Z
LAST-MODIFIED:20260406T154322Z
UID:4404-1779264000-1779292800@jobstraining.es
SUMMARY:PEMP_BARCELONA
DESCRIPTION:P.I. Hermes\, N-150\, Km. 2\,68\, 08110 Montcada i Reixac\, Barcelona
URL:https://jobstraining.es/event/pemp_barcelona-4/
LOCATION:BARCELONA\, BARCELONA\, BARCELONA\, Spain
END:VEVENT
BEGIN:VEVENT
DTSTART;TZID=UTC:20260523T080000
DTEND;TZID=UTC:20260523T160000
DTSTAMP:20260424T122345
CREATED:20251229T103311Z
LAST-MODIFIED:20251229T103311Z
UID:3712-1779523200-1779552000@jobstraining.es
SUMMARY:CARRETILLAS ELEVADORAS
DESCRIPTION:Plataforma Logística de Zaragoza\, Plaza\nCalle Trapani nº2; 50.197Zaragoza \n  \nTODOS LOS TIPOS
URL:https://jobstraining.es/event/carretillas-elevadoras-10/
LOCATION:ZARAGOZA\, C/ TRAPANI 2\, ZARAGOZA\, 50197\, Spain
END:VEVENT
BEGIN:VEVENT
DTSTART;TZID=UTC:20260523T080000
DTEND;TZID=UTC:20260523T160000
DTSTAMP:20260424T122345
CREATED:20260403T090851Z
LAST-MODIFIED:20260403T090851Z
UID:4183-1779523200-1779552000@jobstraining.es
SUMMARY:CARRETILLAS_ MUSEROS VALENCIA
DESCRIPTION:Avinguda Lluís Santàngel\, 37\, Pobles del Nord\, 46136\, Valencia \nTODOS LOS TIPOS
URL:https://jobstraining.es/event/carretillas_-museros-valencia-2/
LOCATION:VIGO
END:VEVENT
BEGIN:VEVENT
DTSTART;TZID=UTC:20260523T080000
DTEND;TZID=UTC:20260523T160000
DTSTAMP:20260424T122345
CREATED:20260403T091616Z
LAST-MODIFIED:20260403T091616Z
UID:4209-1779523200-1779552000@jobstraining.es
SUMMARY:PEMP_ MADRID
DESCRIPTION:C. Sierra de Guadarrama\, 94\, 28830 San Fernando de Henares\, Madrid
URL:https://jobstraining.es/event/pemp_-madrid-2/
LOCATION:VIGO
END:VEVENT
BEGIN:VEVENT
DTSTART;TZID=UTC:20260523T080000
DTEND;TZID=UTC:20260523T160000
DTSTAMP:20260424T122345
CREATED:20260404T111552Z
LAST-MODIFIED:20260404T111552Z
UID:4243-1779523200-1779552000@jobstraining.es
SUMMARY:CARRETILLAS_MADRID
DESCRIPTION:C. Sierra de Guadarrama\, 94\, 28830 San Fernando de Henares\, Madrid \nTODOS LOS TIPOS
URL:https://jobstraining.es/event/carretillas_madrid-29/
LOCATION:MADRID\, MADRID\, MADRID\, Spain
END:VEVENT
BEGIN:VEVENT
DTSTART;TZID=UTC:20260527T080000
DTEND;TZID=UTC:20260527T160000
DTSTAMP:20260424T122345
CREATED:20260406T154350Z
LAST-MODIFIED:20260406T154350Z
UID:4406-1779868800-1779897600@jobstraining.es
SUMMARY:PEMP_BARCELONA
DESCRIPTION:P.I. Hermes\, N-150\, Km. 2\,68\, 08110 Montcada i Reixac\, Barcelona
URL:https://jobstraining.es/event/pemp_barcelona-5/
LOCATION:BARCELONA\, BARCELONA\, BARCELONA\, Spain
END:VEVENT
BEGIN:VEVENT
DTSTART;TZID=UTC:20260530T080000
DTEND;TZID=UTC:20260530T160000
DTSTAMP:20260424T122345
CREATED:20251229T101106Z
LAST-MODIFIED:20251229T101106Z
UID:3673-1780128000-1780156800@jobstraining.es
SUMMARY:PUENTE GRUA
DESCRIPTION:Plataforma Logística de Zaragoza\, Plaza\nCalle Trapani nº2; 50.197Zaragoza
URL:https://jobstraining.es/event/puente-grua-8/
LOCATION:ZARAGOZA\, C/ TRAPANI 2\, ZARAGOZA\, 50197\, Spain
END:VEVENT
BEGIN:VEVENT
DTSTART;TZID=UTC:20260530T080000
DTEND;TZID=UTC:20260530T160000
DTSTAMP:20260424T122345
CREATED:20260404T111624Z
LAST-MODIFIED:20260404T111624Z
UID:4245-1780128000-1780156800@jobstraining.es
SUMMARY:CARRETILLAS_MADRID
DESCRIPTION:C. Sierra de Guadarrama\, 94\, 28830 San Fernando de Henares\, Madrid \nTODOS LOS TIPOS
URL:https://jobstraining.es/event/carretillas_madrid-30/
LOCATION:MADRID\, MADRID\, MADRID\, Spain
END:VEVENT
BEGIN:VEVENT
DTSTART;TZID=UTC:20260603T080000
DTEND;TZID=UTC:20260603T160000
DTSTAMP:20260424T122345
CREATED:20260404T111843Z
LAST-MODIFIED:20260404T112053Z
UID:4253-1780473600-1780502400@jobstraining.es
SUMMARY:CARRETILLAS_MADRID
DESCRIPTION:C. Sierra de Guadarrama\, 94\, 28830 San Fernando de Henares\, Madrid \nTODOS LOS TIPOS
URL:https://jobstraining.es/event/carretillas_madrid-34/
LOCATION:MADRID\, MADRID\, MADRID\, Spain
END:VEVENT
BEGIN:VEVENT
DTSTART;TZID=UTC:20260606T080000
DTEND;TZID=UTC:20260606T160000
DTSTAMP:20260424T122345
CREATED:20251229T103349Z
LAST-MODIFIED:20251229T103349Z
UID:3714-1780732800-1780761600@jobstraining.es
SUMMARY:CARRETILLAS ELEVADORAS
DESCRIPTION:Plataforma Logística de Zaragoza\, Plaza\nCalle Trapani nº2; 50.197Zaragoza \n  \nTODOS LOS TIPOS
URL:https://jobstraining.es/event/carretillas-elevadoras-11/
LOCATION:ZARAGOZA\, C/ TRAPANI 2\, ZARAGOZA\, 50197\, Spain
END:VEVENT
BEGIN:VEVENT
DTSTART;TZID=UTC:20260606T080000
DTEND;TZID=UTC:20260606T160000
DTSTAMP:20260424T122345
CREATED:20260403T090917Z
LAST-MODIFIED:20260403T090917Z
UID:4185-1780732800-1780761600@jobstraining.es
SUMMARY:CARRETILLAS_MUSEROS VALENCIA
DESCRIPTION:Avinguda Lluís Santàngel\, 37\, Pobles del Nord\, 46136\, Valencia \nTODOS LOS TIPOS
URL:https://jobstraining.es/event/carretillas_museros-valencia-2/
LOCATION:VIGO
END:VEVENT
BEGIN:VEVENT
DTSTART;TZID=UTC:20260606T080000
DTEND;TZID=UTC:20260606T160000
DTSTAMP:20260424T122345
CREATED:20260404T112324Z
LAST-MODIFIED:20260404T112324Z
UID:4264-1780732800-1780761600@jobstraining.es
SUMMARY:CARRETILLAS_MADRID
DESCRIPTION:C. Sierra de Guadarrama\, 94\, 28830 San Fernando de Henares\, Madrid \nTODOS LOS TIPOS
URL:https://jobstraining.es/event/carretillas_madrid-38/
LOCATION:MADRID\, MADRID\, MADRID\, Spain
END:VEVENT
END:VCALENDAR