BEGIN:VCALENDAR
VERSION:2.0
PRODID:-//Jobs Training - ECPv6.15.12.2//NONSGML v1.0//EN
CALSCALE:GREGORIAN
METHOD:PUBLISH
X-ORIGINAL-URL:https://jobstraining.es
X-WR-CALDESC:Eventos para Jobs Training
REFRESH-INTERVAL;VALUE=DURATION:PT1H
X-Robots-Tag:noindex
X-PUBLISHED-TTL:PT1H
BEGIN:VTIMEZONE
TZID:UTC
BEGIN:STANDARD
TZOFFSETFROM:+0000
TZOFFSETTO:+0000
TZNAME:UTC
DTSTART:20250101T000000
END:STANDARD
END:VTIMEZONE
BEGIN:VEVENT
DTSTART;TZID=UTC:20260513T080000
DTEND;TZID=UTC:20260617T160000
DTSTAMP:20260424T135625
CREATED:20260404T111742Z
LAST-MODIFIED:20260404T111742Z
UID:4249-1778659200-1781712000@jobstraining.es
SUMMARY:CARRETILLAS_MADRID
DESCRIPTION:C. Sierra de Guadarrama\, 94\, 28830 San Fernando de Henares\, Madrid \nTODOS LOS TIPOS
URL:https://jobstraining.es/event/carretillas_madrid-32/
LOCATION:MADRID\, MADRID\, MADRID\, Spain
END:VEVENT
BEGIN:VEVENT
DTSTART;TZID=UTC:20260617T080000
DTEND;TZID=UTC:20260617T160000
DTSTAMP:20260424T135625
CREATED:20260404T112225Z
LAST-MODIFIED:20260404T112225Z
UID:4259-1781683200-1781712000@jobstraining.es
SUMMARY:CARRETILLAS_MADRD
DESCRIPTION:C. Sierra de Guadarrama\, 94\, 28830 San Fernando de Henares\, Madrid \nTODOS LOS TIPOS
URL:https://jobstraining.es/event/carretillas_madrd/
LOCATION:MADRID\, MADRID\, MADRID\, Spain
END:VEVENT
BEGIN:VEVENT
DTSTART;TZID=UTC:20260620T080000
DTEND;TZID=UTC:20260620T160000
DTSTAMP:20260424T135625
CREATED:20251229T103429Z
LAST-MODIFIED:20251229T103429Z
UID:3716-1781942400-1781971200@jobstraining.es
SUMMARY:CARRETILLAS ELEVADORAS
DESCRIPTION:Plataforma Logística de Zaragoza\, Plaza\nCalle Trapani nº2; 50.197Zaragoza \n  \nTODOS LOS TIPOS
URL:https://jobstraining.es/event/carretillas-elevadoras-12/
LOCATION:ZARAGOZA\, C/ TRAPANI 2\, ZARAGOZA\, 50197\, Spain
END:VEVENT
BEGIN:VEVENT
DTSTART;TZID=UTC:20260620T080000
DTEND;TZID=UTC:20260620T160000
DTSTAMP:20260424T135625
CREATED:20260403T090943Z
LAST-MODIFIED:20260403T090943Z
UID:4187-1781942400-1781971200@jobstraining.es
SUMMARY:CARRETILLAS_ MUSEROS VALENCIA
DESCRIPTION:Avinguda Lluís Santàngel\, 37\, Pobles del Nord\, 46136\, Valencia \nTODOS LOS TIPOS
URL:https://jobstraining.es/event/carretillas_-museros-valencia-3/
LOCATION:VIGO
END:VEVENT
BEGIN:VEVENT
DTSTART;TZID=UTC:20260620T080000
DTEND;TZID=UTC:20260620T160000
DTSTAMP:20260424T135625
CREATED:20260403T091633Z
LAST-MODIFIED:20260403T091633Z
UID:4211-1781942400-1781971200@jobstraining.es
SUMMARY:PEMP_MADRID
DESCRIPTION:C. Sierra de Guadarrama\, 94\, 28830 San Fernando de Henares\, Madrid
URL:https://jobstraining.es/event/pemp_madrid-6/
LOCATION:VIGO
END:VEVENT
BEGIN:VEVENT
DTSTART;TZID=UTC:20260620T080000
DTEND;TZID=UTC:20260620T160000
DTSTAMP:20260424T135625
CREATED:20260404T112412Z
LAST-MODIFIED:20260404T112422Z
UID:4268-1781942400-1781971200@jobstraining.es
SUMMARY:CARRETILLAS_MADRID
DESCRIPTION:C. Sierra de Guadarrama\, 94\, 28830 San Fernando de Henares\, Madrid \nTODOS LOS TIPOS
URL:https://jobstraining.es/event/carretillas_madrid-40/
LOCATION:MADRID\, MADRID\, MADRID\, Spain
END:VEVENT
BEGIN:VEVENT
DTSTART;TZID=UTC:20260624T080000
DTEND;TZID=UTC:20260624T160000
DTSTAMP:20260424T135625
CREATED:20260404T112259Z
LAST-MODIFIED:20260404T112259Z
UID:4261-1782288000-1782316800@jobstraining.es
SUMMARY:CARRETILLAS_MADRID
DESCRIPTION:C. Sierra de Guadarrama\, 94\, 28830 San Fernando de Henares\, Madrid \nTODOS LOS TIPOS
URL:https://jobstraining.es/event/carretillas_madrid-37/
LOCATION:MADRID\, MADRID\, MADRID\, Spain
END:VEVENT
BEGIN:VEVENT
DTSTART;TZID=UTC:20260627T080000
DTEND;TZID=UTC:20260627T160000
DTSTAMP:20260424T135625
CREATED:20251229T103503Z
LAST-MODIFIED:20251229T103503Z
UID:3718-1782547200-1782576000@jobstraining.es
SUMMARY:CARRETILLAS ELEVADORAS
DESCRIPTION:Plataforma Logística de Zaragoza\, Plaza\nCalle Trapani nº2; 50.197Zaragoza \n  \nTODOS LOS TIPOS
URL:https://jobstraining.es/event/carretillas-elevadoras-13/
LOCATION:ZARAGOZA\, C/ TRAPANI 2\, ZARAGOZA\, 50197\, Spain
END:VEVENT
BEGIN:VEVENT
DTSTART;TZID=UTC:20260627T080000
DTEND;TZID=UTC:20260627T160000
DTSTAMP:20260424T135625
CREATED:20260404T112455Z
LAST-MODIFIED:20260404T112455Z
UID:4270-1782547200-1782576000@jobstraining.es
SUMMARY:CARRETILLAS_MADRID
DESCRIPTION:C. Sierra de Guadarrama\, 94\, 28830 San Fernando de Henares\, Madrid \nTODOS LOS TIPOS
URL:https://jobstraining.es/event/carretillas_madrid-41/
LOCATION:MADRID\, MADRID\, MADRID\, Spain
END:VEVENT
BEGIN:VEVENT
DTSTART;TZID=UTC:20260701T080000
DTEND;TZID=UTC:20260701T160000
DTSTAMP:20260424T135625
CREATED:20260404T112559Z
LAST-MODIFIED:20260404T112559Z
UID:4274-1782892800-1782921600@jobstraining.es
SUMMARY:CARRETILLAS_MADRID
DESCRIPTION:C. Sierra de Guadarrama\, 94\, 28830 San Fernando de Henares\, Madrid \nTODOS LOS TIPOS
URL:https://jobstraining.es/event/carretillas_madrid-43/
LOCATION:MADRID\, MADRID\, MADRID\, Spain
END:VEVENT
BEGIN:VEVENT
DTSTART;TZID=UTC:20260704T080000
DTEND;TZID=UTC:20260704T160000
DTSTAMP:20260424T135625
CREATED:20251229T103530Z
LAST-MODIFIED:20251229T103530Z
UID:3720-1783152000-1783180800@jobstraining.es
SUMMARY:CARRETILLAS ELEVADORAS
DESCRIPTION:Plataforma Logística de Zaragoza\, Plaza\nCalle Trapani nº2; 50.197Zaragoza \n  \nTODOS LOS TIPOS
URL:https://jobstraining.es/event/carretillas-elevadoras-14/
LOCATION:ZARAGOZA\, C/ TRAPANI 2\, ZARAGOZA\, 50197\, Spain
END:VEVENT
BEGIN:VEVENT
DTSTART;TZID=UTC:20260704T080000
DTEND;TZID=UTC:20260704T160000
DTSTAMP:20260424T135625
CREATED:20260403T091019Z
LAST-MODIFIED:20260403T091019Z
UID:4189-1783152000-1783180800@jobstraining.es
SUMMARY:CARRETILLAS_MUSEROS VALENCIA
DESCRIPTION:Avinguda Lluís Santàngel\, 37\, Pobles del Nord\, 46136\, Valencia \nTODOS LOS TIPOS
URL:https://jobstraining.es/event/carretillas_museros-valencia-3/
LOCATION:VIGO
END:VEVENT
BEGIN:VEVENT
DTSTART;TZID=UTC:20260704T080000
DTEND;TZID=UTC:20260704T160000
DTSTAMP:20260424T135625
CREATED:20260404T114106Z
LAST-MODIFIED:20260404T114106Z
UID:4334-1783152000-1783180800@jobstraining.es
SUMMARY:CARRETILLAS_MADRID
DESCRIPTION:C. Sierra de Guadarrama\, 94\, 28830 San Fernando de Henares\, Madrid \nTODOS LOS TIPOS
URL:https://jobstraining.es/event/carretillas_madrid-69/
LOCATION:MADRID\, MADRID\, MADRID\, Spain
END:VEVENT
BEGIN:VEVENT
DTSTART;TZID=UTC:20260708T080000
DTEND;TZID=UTC:20260708T160000
DTSTAMP:20260424T135625
CREATED:20260404T112628Z
LAST-MODIFIED:20260404T112628Z
UID:4276-1783497600-1783526400@jobstraining.es
SUMMARY:CARRETILLAS_MADRID
DESCRIPTION:C. Sierra de Guadarrama\, 94\, 28830 San Fernando de Henares\, Madrid \nTODOS LOS TIPOS
URL:https://jobstraining.es/event/carretillas_madrid-44/
LOCATION:MADRID\, MADRID\, MADRID\, Spain
END:VEVENT
BEGIN:VEVENT
DTSTART;TZID=UTC:20260711T080000
DTEND;TZID=UTC:20260711T160000
DTSTAMP:20260424T135625
CREATED:20260404T114130Z
LAST-MODIFIED:20260404T114130Z
UID:4336-1783756800-1783785600@jobstraining.es
SUMMARY:CARRETILLAS_MADRID
DESCRIPTION:C. Sierra de Guadarrama\, 94\, 28830 San Fernando de Henares\, Madrid \nTODOS LOS TIPOS
URL:https://jobstraining.es/event/carretillas_madrid-70/
LOCATION:MADRID\, MADRID\, MADRID\, Spain
END:VEVENT
BEGIN:VEVENT
DTSTART;TZID=UTC:20260715T080000
DTEND;TZID=UTC:20260715T160000
DTSTAMP:20260424T135625
CREATED:20260404T112654Z
LAST-MODIFIED:20260404T112654Z
UID:4278-1784102400-1784131200@jobstraining.es
SUMMARY:CARRETILLAS_MADRID
DESCRIPTION:C. Sierra de Guadarrama\, 94\, 28830 San Fernando de Henares\, Madrid \nTODOS LOS TIPOS
URL:https://jobstraining.es/event/carretillas_madrid-45/
LOCATION:MADRID\, MADRID\, MADRID\, Spain
END:VEVENT
BEGIN:VEVENT
DTSTART;TZID=UTC:20260715T080000
DTEND;TZID=UTC:20260715T160000
DTSTAMP:20260424T135625
CREATED:20260404T112721Z
LAST-MODIFIED:20260404T112721Z
UID:4280-1784102400-1784131200@jobstraining.es
SUMMARY:CARRETILLAS_MADRID
DESCRIPTION:C. Sierra de Guadarrama\, 94\, 28830 San Fernando de Henares\, Madrid \nTODOS LOS TIPOS
URL:https://jobstraining.es/event/carretillas_madrid-46/
LOCATION:MADRID\, MADRID\, MADRID\, Spain
END:VEVENT
BEGIN:VEVENT
DTSTART;TZID=UTC:20260715T080000
DTEND;TZID=UTC:20260715T160000
DTSTAMP:20260424T135625
CREATED:20260404T112748Z
LAST-MODIFIED:20260404T112748Z
UID:4282-1784102400-1784131200@jobstraining.es
SUMMARY:CARRETILLAS_MADRID
DESCRIPTION:C. Sierra de Guadarrama\, 94\, 28830 San Fernando de Henares\, Madrid \nTODOS LOS TIPOS
URL:https://jobstraining.es/event/carretillas_madrid-47/
LOCATION:MADRID\, MADRID\, MADRID\, Spain
END:VEVENT
BEGIN:VEVENT
DTSTART;TZID=UTC:20260718T080000
DTEND;TZID=UTC:20260718T160000
DTSTAMP:20260424T135625
CREATED:20251229T103608Z
LAST-MODIFIED:20251229T103608Z
UID:3722-1784361600-1784390400@jobstraining.es
SUMMARY:CARRETILLAS ELEVADORAS
DESCRIPTION:Plataforma Logística de Zaragoza\, Plaza\nCalle Trapani nº2; 50.197Zaragoza \n  \nTODOS LOS TIPOS
URL:https://jobstraining.es/event/carretillas-elevadoras-15/
LOCATION:ZARAGOZA\, C/ TRAPANI 2\, ZARAGOZA\, 50197\, Spain
END:VEVENT
BEGIN:VEVENT
DTSTART;TZID=UTC:20260718T080000
DTEND;TZID=UTC:20260718T160000
DTSTAMP:20260424T135625
CREATED:20260403T091044Z
LAST-MODIFIED:20260403T091044Z
UID:4191-1784361600-1784390400@jobstraining.es
SUMMARY:CARRETILLAS_MUSEROS VALENCIA
DESCRIPTION:Avinguda Lluís Santàngel\, 37\, Pobles del Nord\, 46136\, Valencia \nTODOS LOS TIPOS
URL:https://jobstraining.es/event/carretillas_museros-valencia-4/
LOCATION:VIGO
END:VEVENT
BEGIN:VEVENT
DTSTART;TZID=UTC:20260718T080000
DTEND;TZID=UTC:20260718T160000
DTSTAMP:20260424T135625
CREATED:20260403T091654Z
LAST-MODIFIED:20260403T091654Z
UID:4213-1784361600-1784390400@jobstraining.es
SUMMARY:PEMP _ MADRID
DESCRIPTION:C. Sierra de Guadarrama\, 94\, 28830 San Fernando de Henares\, Madrid
URL:https://jobstraining.es/event/pemp-_-madrid-10/
LOCATION:VIGO
END:VEVENT
BEGIN:VEVENT
DTSTART;TZID=UTC:20260718T080000
DTEND;TZID=UTC:20260718T160000
DTSTAMP:20260424T135625
CREATED:20260404T114156Z
LAST-MODIFIED:20260404T114156Z
UID:4338-1784361600-1784390400@jobstraining.es
SUMMARY:CARRETILLAS_MADRID
DESCRIPTION:C. Sierra de Guadarrama\, 94\, 28830 San Fernando de Henares\, Madrid \nTODOS LOS TIPOS
URL:https://jobstraining.es/event/carretillas_madrid-71/
LOCATION:MADRID\, MADRID\, MADRID\, Spain
END:VEVENT
BEGIN:VEVENT
DTSTART;TZID=UTC:20260722T080000
DTEND;TZID=UTC:20260722T160000
DTSTAMP:20260424T135625
CREATED:20260404T112812Z
LAST-MODIFIED:20260404T112812Z
UID:4284-1784707200-1784736000@jobstraining.es
SUMMARY:CARRETILLAS_MADRID
DESCRIPTION:C. Sierra de Guadarrama\, 94\, 28830 San Fernando de Henares\, Madrid \nTODOS LOS TIPOS
URL:https://jobstraining.es/event/carretillas_madrid-48/
LOCATION:MADRID\, MADRID\, MADRID\, Spain
END:VEVENT
BEGIN:VEVENT
DTSTART;TZID=UTC:20260725T080000
DTEND;TZID=UTC:20260725T160000
DTSTAMP:20260424T135625
CREATED:20251229T102146Z
LAST-MODIFIED:20251229T102146Z
UID:3679-1784966400-1784995200@jobstraining.es
SUMMARY:PUENTE GRUA
DESCRIPTION:Plataforma Logística de Zaragoza\, Plaza\nCalle Trapani nº2; 50.197Zaragoza
URL:https://jobstraining.es/event/puente-grua-17/
LOCATION:ZARAGOZA\, C/ TRAPANI 2\, ZARAGOZA\, 50197\, Spain
END:VEVENT
BEGIN:VEVENT
DTSTART;TZID=UTC:20260725T080000
DTEND;TZID=UTC:20260725T160000
DTSTAMP:20260424T135625
CREATED:20260404T114221Z
LAST-MODIFIED:20260404T114221Z
UID:4340-1784966400-1784995200@jobstraining.es
SUMMARY:CARRETILLAS_MADRID
DESCRIPTION:C. Sierra de Guadarrama\, 94\, 28830 San Fernando de Henares\, Madrid \nTODOS LOS TIPOS
URL:https://jobstraining.es/event/carretillas_madrid-72/
LOCATION:MADRID\, MADRID\, MADRID\, Spain
END:VEVENT
BEGIN:VEVENT
DTSTART;TZID=UTC:20260729T080000
DTEND;TZID=UTC:20260729T160000
DTSTAMP:20260424T135625
CREATED:20260404T112840Z
LAST-MODIFIED:20260404T112840Z
UID:4286-1785312000-1785340800@jobstraining.es
SUMMARY:CARRETILLAS_MADRID
DESCRIPTION:C. Sierra de Guadarrama\, 94\, 28830 San Fernando de Henares\, Madrid \nTODOS LOS TIPOS
URL:https://jobstraining.es/event/carretillas_madrid-49/
LOCATION:MADRID\, MADRID\, MADRID\, Spain
END:VEVENT
BEGIN:VEVENT
DTSTART;TZID=UTC:20260801T080000
DTEND;TZID=UTC:20260801T160000
DTSTAMP:20260424T135625
CREATED:20260404T114251Z
LAST-MODIFIED:20260404T114251Z
UID:4342-1785571200-1785600000@jobstraining.es
SUMMARY:CARRETILLAS_MADRID
DESCRIPTION:C. Sierra de Guadarrama\, 94\, 28830 San Fernando de Henares\, Madrid \nTODOS LOS TIPOS
URL:https://jobstraining.es/event/carretillas_madrid-73/
LOCATION:MADRID\, MADRID\, MADRID\, Spain
END:VEVENT
BEGIN:VEVENT
DTSTART;TZID=UTC:20260805T080000
DTEND;TZID=UTC:20260805T160000
DTSTAMP:20260424T135625
CREATED:20260404T112907Z
LAST-MODIFIED:20260404T112907Z
UID:4288-1785916800-1785945600@jobstraining.es
SUMMARY:CARRETILLAS_MADRID
DESCRIPTION:C. Sierra de Guadarrama\, 94\, 28830 San Fernando de Henares\, Madrid \nTODOS LOS TIPOS
URL:https://jobstraining.es/event/carretillas_madrid-50/
LOCATION:MADRID\, MADRID\, MADRID\, Spain
END:VEVENT
BEGIN:VEVENT
DTSTART;TZID=UTC:20260808T080000
DTEND;TZID=UTC:20260808T160000
DTSTAMP:20260424T135625
CREATED:20260404T114316Z
LAST-MODIFIED:20260404T114316Z
UID:4344-1786176000-1786204800@jobstraining.es
SUMMARY:CARRETILLAS_MADRID
DESCRIPTION:C. Sierra de Guadarrama\, 94\, 28830 San Fernando de Henares\, Madrid \nTODOS LOS TIPOS
URL:https://jobstraining.es/event/carretillas_madrid-74/
LOCATION:MADRID\, MADRID\, MADRID\, Spain
END:VEVENT
BEGIN:VEVENT
DTSTART;TZID=UTC:20260812T080000
DTEND;TZID=UTC:20260812T160000
DTSTAMP:20260424T135625
CREATED:20260404T112931Z
LAST-MODIFIED:20260404T112931Z
UID:4290-1786521600-1786550400@jobstraining.es
SUMMARY:CARRETILLAS _MADRID
DESCRIPTION:C. Sierra de Guadarrama\, 94\, 28830 San Fernando de Henares\, Madrid \nTODOS LOS TIPOS
URL:https://jobstraining.es/event/carretillas-_madrid-7/
LOCATION:MADRID\, MADRID\, MADRID\, Spain
END:VEVENT
END:VCALENDAR