BEGIN:VCALENDAR
VERSION:2.0
PRODID:-//Jobs Training - ECPv6.15.12.2//NONSGML v1.0//EN
CALSCALE:GREGORIAN
METHOD:PUBLISH
X-WR-CALNAME:Jobs Training
X-ORIGINAL-URL:https://jobstraining.es
X-WR-CALDESC:Eventos para Jobs Training
REFRESH-INTERVAL;VALUE=DURATION:PT1H
X-Robots-Tag:noindex
X-PUBLISHED-TTL:PT1H
BEGIN:VTIMEZONE
TZID:UTC
BEGIN:STANDARD
TZOFFSETFROM:+0000
TZOFFSETTO:+0000
TZNAME:UTC
DTSTART:20250101T000000
END:STANDARD
END:VTIMEZONE
BEGIN:VEVENT
DTSTART;TZID=UTC:20261104T080000
DTEND;TZID=UTC:20261104T170000
DTSTAMP:20260424T193519
CREATED:20260404T113610Z
LAST-MODIFIED:20260404T113610Z
UID:4316-1793779200-1793811600@jobstraining.es
SUMMARY:CARRETILLAS_MADRID
DESCRIPTION:C. Sierra de Guadarrama\, 94\, 28830 San Fernando de Henares\, Madrid \nTODOS LOS TIPOS
URL:https://jobstraining.es/event/carretillas_madrid-60/
LOCATION:MADRID\, MADRID\, MADRID\, Spain
END:VEVENT
BEGIN:VEVENT
DTSTART;TZID=UTC:20261107T080000
DTEND;TZID=UTC:20261107T160000
DTSTAMP:20260424T193519
CREATED:20260404T115026Z
LAST-MODIFIED:20260404T115026Z
UID:4370-1794038400-1794067200@jobstraining.es
SUMMARY:CARRETILLAS _ MADRID
DESCRIPTION:C. Sierra de Guadarrama\, 94\, 28830 San Fernando de Henares\, Madrid \nTODOS LOS TIPOS
URL:https://jobstraining.es/event/carretillas-_-madrid-15/
LOCATION:MADRID\, MADRID\, MADRID\, Spain
END:VEVENT
BEGIN:VEVENT
DTSTART;TZID=UTC:20261111T080000
DTEND;TZID=UTC:20261111T160000
DTSTAMP:20260424T193519
CREATED:20260404T113637Z
LAST-MODIFIED:20260404T113637Z
UID:4318-1794384000-1794412800@jobstraining.es
SUMMARY:CARRETILLAS_MADRID
DESCRIPTION:C. Sierra de Guadarrama\, 94\, 28830 San Fernando de Henares\, Madrid \nTODOS LOS TIPOS
URL:https://jobstraining.es/event/carretillas_madrid-61/
LOCATION:MADRID\, MADRID\, MADRID\, Spain
END:VEVENT
BEGIN:VEVENT
DTSTART;TZID=UTC:20261114T080000
DTEND;TZID=UTC:20261114T160000
DTSTAMP:20260424T193519
CREATED:20260404T115051Z
LAST-MODIFIED:20260404T115051Z
UID:4372-1794643200-1794672000@jobstraining.es
SUMMARY:CARRETILLAS_MADRID
DESCRIPTION:C. Sierra de Guadarrama\, 94\, 28830 San Fernando de Henares\, Madrid \nTODOS LOS TIPOS
URL:https://jobstraining.es/event/carretillas_madrid-86/
LOCATION:MADRID\, MADRID\, MADRID\, Spain
END:VEVENT
BEGIN:VEVENT
DTSTART;TZID=UTC:20261118T080000
DTEND;TZID=UTC:20261118T160000
DTSTAMP:20260424T193519
CREATED:20260404T113702Z
LAST-MODIFIED:20260404T113702Z
UID:4320-1794988800-1795017600@jobstraining.es
SUMMARY:CARRETILLAS_MADRID
DESCRIPTION:C. Sierra de Guadarrama\, 94\, 28830 San Fernando de Henares\, Madrid \nTODOS LOS TIPOS
URL:https://jobstraining.es/event/carretillas_madrid-62/
LOCATION:MADRID\, MADRID\, MADRID\, Spain
END:VEVENT
BEGIN:VEVENT
DTSTART;TZID=UTC:20261121T080000
DTEND;TZID=UTC:20261121T160000
DTSTAMP:20260424T193519
CREATED:20260403T091357Z
LAST-MODIFIED:20260403T091357Z
UID:4203-1795248000-1795276800@jobstraining.es
SUMMARY:CARRETILLAS_ MUSEROS VALENCIA
DESCRIPTION:Avinguda Lluís Santàngel\, 37\, Pobles del Nord\, 46136\, Valencia \nTODOS LOS TIPOS
URL:https://jobstraining.es/event/carretillas_-museros-valencia-5/
LOCATION:VIGO
END:VEVENT
BEGIN:VEVENT
DTSTART;TZID=UTC:20261121T080000
DTEND;TZID=UTC:20261121T160000
DTSTAMP:20260424T193519
CREATED:20260403T091827Z
LAST-MODIFIED:20260403T091827Z
UID:4221-1795248000-1795276800@jobstraining.es
SUMMARY:PEMP_MADRID
DESCRIPTION:C. Sierra de Guadarrama\, 94\, 28830 San Fernando de Henares\, Madrid
URL:https://jobstraining.es/event/pemp_madrid-9/
LOCATION:MADRID\, MADRID\, MADRID\, Spain
END:VEVENT
BEGIN:VEVENT
DTSTART;TZID=UTC:20261121T080000
DTEND;TZID=UTC:20261121T160000
DTSTAMP:20260424T193519
CREATED:20260404T115134Z
LAST-MODIFIED:20260404T115134Z
UID:4374-1795248000-1795276800@jobstraining.es
SUMMARY:CARRETILLAS_MADRID
DESCRIPTION:C. Sierra de Guadarrama\, 94\, 28830 San Fernando de Henares\, Madrid \nTODOS LOS TIPOS
URL:https://jobstraining.es/event/carretillas_madrid-87/
LOCATION:MADRID\, MADRID\, MADRID\, Spain
END:VEVENT
BEGIN:VEVENT
DTSTART;TZID=UTC:20261127T080000
DTEND;TZID=UTC:20261127T160000
DTSTAMP:20260424T193519
CREATED:20260404T113731Z
LAST-MODIFIED:20260404T113731Z
UID:4322-1795766400-1795795200@jobstraining.es
SUMMARY:CARRETILLAS_MADRID
DESCRIPTION:C. Sierra de Guadarrama\, 94\, 28830 San Fernando de Henares\, Madrid \nTODOS LOS TIPOS
URL:https://jobstraining.es/event/carretillas_madrid-63/
LOCATION:MADRID\, MADRID\, MADRID\, Spain
END:VEVENT
BEGIN:VEVENT
DTSTART;TZID=UTC:20261128T080000
DTEND;TZID=UTC:20261128T160000
DTSTAMP:20260424T193519
CREATED:20260404T115201Z
LAST-MODIFIED:20260404T115201Z
UID:4376-1795852800-1795881600@jobstraining.es
SUMMARY:CARRETILLAS_MADRID
DESCRIPTION:C. Sierra de Guadarrama\, 94\, 28830 San Fernando de Henares\, Madrid \nTODOS LOS TIPOS
URL:https://jobstraining.es/event/carretillas_madrid-88/
LOCATION:MADRID\, MADRID\, MADRID\, Spain
END:VEVENT
END:VCALENDAR